BEGIN:VCALENDAR
VERSION:2.0
PRODID:
BEGIN:VEVENT
UID:360463imp
DTSTAMP:20260422T222018Z
DTSTART:20260731T133000Z
DTEND:20260731T153000Z
SUMMARY: Tax Update: "One Big Beautiful Bill"
DESCRIPTION: This course provides a focused analysis of the individual and small business provisions in Pub. L. 119-21 (H.R.1)\, "One Big Beautiful Bill." Tailored for tax professionals working with Form 1040 filers\, the course explores impactful updates\, from the no-tax-on-tips provision to enhanced bonus depreciation. Designed to inform planning strategies and compliance for the 2025 tax year and beyond.  Participants will gain actionable insight into newly proposed deductions and expanded credits.

This event may be a rebroadcast of a live event and the instructor will be available to answer your questions during the event.This course is being offered by a learning partner and will not be accessible on your My CPE page. Access information will be emailed directly to you by CPA Crossings\n 
CLASS:PUBLIC
END:VEVENT
END:VCALENDAR
