BEGIN:VCALENDAR
VERSION:2.0
PRODID:
BEGIN:VEVENT
UID:360446imp
DTSTAMP:20260423T202731Z
DTSTART:20260730T163000Z
DTEND:20260730T183000Z
SUMMARY: No Tax on Overtime: Payroll Compliance
DESCRIPTION: This course provides tax and accounting professionals with a comprehensive overview of overtime requirements under the Fair Labor Standards Act (FLSA). Participants will explore the statutory definition of overtime\, exemptions\, and the calculation of the "regular rate of pay." Through practical examples and compliance-focused scenarios learners will gain the skills to identify risks\, properly compute overtime pay\, and advise clients or employers on best practices. The course emphasizes regulatory compliance\, accurate application of rules\, and strategies to avoid common pitfalls in wage and hour audits.

This event may be a rebroadcast of a live event and the instructor will be available to answer your questions during the event.This course is being offered by a learning partner and will not be accessible on your My CPE page. Access information will be emailed directly to you by CPA Crossings\n 
CLASS:PUBLIC
END:VEVENT
END:VCALENDAR
