BEGIN:VCALENDAR
VERSION:2.0
PRODID:
BEGIN:VEVENT
UID:360435imp
DTSTAMP:20260423T102010Z
DTSTART:20260730T133000Z
DTEND:20260730T153000Z
SUMMARY: Becoming Conflict Competent
DESCRIPTION: Conflict is often avoided\, or dealt with in a passive manner. When ignored\, conflict often escalates and can become polarizing. In this session\, participants will gain insights for enhancing their natural responses to conflict\, learn healthy communication styles\, and build constructive behaviors to manage conflict.

This event may be a rebroadcast of a live event and the instructor will be available to answer your questions during the event.This course is being offered by a learning partner and will not be accessible on your My CPE page. Access information will be emailed directly to you by CPA Crossings\n 
CLASS:PUBLIC
END:VEVENT
END:VCALENDAR
