BEGIN:VCALENDAR
VERSION:2.0
PRODID:
BEGIN:VEVENT
UID:360385imp
DTSTAMP:20260423T201928Z
DTSTART:20260728T130000Z
DTEND:20260728T210000Z
SUMMARY: A&A Update for Nonprofits and Single Audit  - 2026
DESCRIPTION: This course provides a high-level overview of the most important accounting\, financial reporting\, compliance and audit issues facing nonprofit entities and their accountants.  The focus is on explaining the basis behind major issues and trends in executive summary (yet practical) form\, enabling professionals to understand the most important aspects of relevant standards\, and the basis for any potential changes on the horizon.      

This event may be a rebroadcast of a live event and the instructor will be available to answer your questions during the event.This course is being offered by a learning partner and will not be accessible on your My CPE page. Access information will be emailed directly to you by CPA Crossings\n 
CLASS:PUBLIC
END:VEVENT
END:VCALENDAR
