BEGIN:VCALENDAR
VERSION:2.0
PRODID:
BEGIN:VEVENT
UID:360336imp
DTSTAMP:20260423T213202Z
DTSTART:20260724T183000Z
DTEND:20260724T203000Z
SUMMARY: Viewing A&A Through the Eyes of a Tax Practitioner
DESCRIPTION: This session offers insight for tax practitioners beyond merely checking a box to satisfy accounting and auditing requirements for license renewal. We devote significant attention to extracting utility from financial statements to support decision needs of both external financial statement users and internal stakeholders. We explore best practices for cross-functional support within firms that perform tax\, accounting solutions\, financial statement\, and consulting services. We also highlight similarities and differences between U.S. GAAP and tax-basis accounting.

This event may be a rebroadcast of a live event and the instructor will be available to answer your questions during the event.This course is being offered by a learning partner and will not be accessible on your My CPE page. Access information will be emailed directly to you by CPA Crossings\n 
CLASS:PUBLIC
END:VEVENT
END:VCALENDAR
