BEGIN:VCALENDAR
VERSION:2.0
PRODID:
BEGIN:VEVENT
UID:360143imp
DTSTAMP:20260424T101332Z
DTSTART:20260715T133000Z
DTEND:20260715T153000Z
SUMMARY: How AI Fits into the Accounting World
DESCRIPTION: This session is designed as a primer to introduce artificial intelligence (AI) and to discuss how it will impact accountants as they work. The material will briefly explain what AI is and then focus on ways that it is already serving those in the accounting realm. It will close with a look at future AI-centric developments that will have great potential to positively impact the accounting profession. Those wishing to gain an understanding of what artificial intelligence is and how it will be used by accountants should consider attending this session. 

This event may be a rebroadcast of a live event and the instructor will be available to answer your questions during the event.This course is being offered by a learning partner and will not be accessible on your My CPE page. Access information will be emailed directly to you by CPA Crossings\n 
CLASS:PUBLIC
END:VEVENT
END:VCALENDAR
