BEGIN:VCALENDAR
VERSION:2.0
PRODID:
BEGIN:VEVENT
UID:360104imp
DTSTAMP:20260422T010702Z
DTSTART:20260713T173000Z
DTEND:20260713T193000Z
SUMMARY: How to Audit Inventory
DESCRIPTION: Inventory observations are often a right of passage for audit staff. This course will cover the basics of auditing inventory\, including the related audit assertions\, risks\, & threats to inventory. During this course\, we will also highlight the various substantive auditing procedures that staff should perform\, and also walk through how to conduct a physical inventory observation.


This event may be a rebroadcast of a live event and the instructor will be available to answer your questions during the event.This course is being offered by a learning partner and will not be accessible on your My CPE page. Access information will be emailed directly to you by CPA Crossings\n 
CLASS:PUBLIC
END:VEVENT
END:VCALENDAR
