BEGIN:VCALENDAR
VERSION:2.0
PRODID:
BEGIN:VEVENT
UID:360030imp
DTSTAMP:20260423T112650Z
DTSTART:20260709T140000Z
DTEND:20260709T160000Z
SUMMARY: Google Gemini AI for Accountants
DESCRIPTION: This course provides a concise overview of Gemini AI\, Google's advanced multimodal artificial intelligence model. It explains how Gemini is integrated into different Google products\, including Gmail\, Docs\, Sheets\, Slides\, and as a stand-alone chatbot. Participants will learn how Gemini enhances productivity by summarizing email threads\, suggesting responses\, drafting emails\, generating formulas\, creating tables\, and more. By the end of the course\, students will have a solid foundation in understanding Gemini AI's role in the evolving landscape of artificial intelligence.

This event may be a rebroadcast of a live event and the instructor will be available to answer your questions during the event.This course is being offered by a learning partner and will not be accessible on your My CPE page. Access information will be emailed directly to you by CPA Crossings\n 
CLASS:PUBLIC
END:VEVENT
END:VCALENDAR
