BEGIN:VCALENDAR
VERSION:2.0
PRODID:
BEGIN:VEVENT
UID:359747imp
DTSTAMP:20260421T201855Z
DTSTART:20260625T173000Z
DTEND:20260625T193000Z
SUMMARY: Accounting for and Auditing Cryptocurrency & Digital Assets
DESCRIPTION: How to properly account for and audit digital records is increasingly gathering importance as more entities have cryptocurrency and other digital assets on their financial statements. This course will address common questions\, risks\, and challenges evolving in this area.

This event may be a rebroadcast of a live event and the instructor will be available to answer your questions during the event.This course is being offered by a learning partner and will not be accessible on your My CPE page. Access information will be emailed directly to you by CPA Crossings\n 
CLASS:PUBLIC
END:VEVENT
END:VCALENDAR
