BEGIN:VCALENDAR
VERSION:2.0
PRODID:
BEGIN:VEVENT
UID:359702imp
DTSTAMP:20260422T214623Z
DTSTART:20260623T180000Z
DTEND:20260623T200000Z
SUMMARY: Steps to Stop External Fraud
DESCRIPTION: Until recently\, a percentage of organizations discounted the risk related to external fraud attempts. Most were only concerned with protecting physical assets such as inventory or fixed assets. However\, because of the many highly publicized corporate hacking events\, such as the ones that affected the Colonial Pipeline and JBS Meats\, more attention is being paid to external fraud risk of all types. In this session\, we look at what is included in a definition of external fraud and then delve into specific control issues that can give rise to increased risk. We then discuss measures that organizations can employ to help reduce exposure to external attacks.

This event may be a rebroadcast of a live event and the instructor will be available to answer your questions during the event.This course is being offered by a learning partner and will not be accessible on your My CPE page. Access information will be emailed directly to you by CPA Crossings\n 
CLASS:PUBLIC
END:VEVENT
END:VCALENDAR
