BEGIN:VCALENDAR
VERSION:2.0
PRODID:
BEGIN:VEVENT
UID:359697imp
DTSTAMP:20260422T073206Z
DTSTART:20260623T160000Z
DTEND:20260623T170000Z
SUMMARY: Tax Implications of Retirement Plan Distributions
DESCRIPTION: This session will address the complex rules of retirement distributions\, review key provisions of the SECURE Act 2.0\, and provide practical strategies of maximizing tax benefits for your client.

This event may be a rebroadcast of a live event and the instructor will be available to answer your questions during the event.This course is being offered by a learning partner and will not be accessible on your My CPE page. Access information will be emailed directly to you by CPA Crossings\n 
CLASS:PUBLIC
END:VEVENT
END:VCALENDAR
