BEGIN:VCALENDAR
VERSION:2.0
PRODID:
BEGIN:VEVENT
UID:359531imp
DTSTAMP:20260422T080319Z
DTSTART:20260615T140000Z
DTEND:20260615T160000Z
SUMMARY: ChatGPT and IRS Taxation Law Research
DESCRIPTION: The course provides a concise overview of how to use ChatGPT to more effectively and efficiently research IRS taxation law. It delves into techniques for extracting precise information from complex tax legislation\, interpreting IRS guidelines with AI assistance\, and utilizing ChatGPT's advanced language models for nuanced legal analysis. Participants will learn how to streamline their research process\, identify relevant tax law precedents\, and apply AI insights to real-world tax scenarios\, enhancing their professional proficiency in navigating the intricate world of IRS taxation.

This event may be a rebroadcast of a live event and the instructor will be available to answer your questions during the event.This course is being offered by a learning partner and will not be accessible on your My CPE page. Access information will be emailed directly to you by CPA Crossings\n 
CLASS:PUBLIC
END:VEVENT
END:VCALENDAR
