BEGIN:VCALENDAR
VERSION:2.0
PRODID:
BEGIN:VEVENT
UID:359520imp
DTSTAMP:20260422T235547Z
DTSTART:20260613T153000Z
DTEND:20260613T173000Z
SUMMARY: Using ChatGPT with Excel
DESCRIPTION: In this innovative course\, participants will learn to combine the power of artificial intelligence with the functionality of Microsoft Excel.  You will learn how to leverage ChatGPT\, OpenAI's powerful language model\, to improve your Excel skills and decrease the time it takes to build spreadsheets.  The course will include a quick introduction to ChatGPT but the majority of the time will be spent using ChatGPT to create an Excel spreadsheet.

This event may be a rebroadcast of a live event and the instructor will be available to answer your questions during the event.This course is being offered by a learning partner and will not be accessible on your My CPE page. Access information will be emailed directly to you by CPA Crossings\n 
CLASS:PUBLIC
END:VEVENT
END:VCALENDAR
