BEGIN:VCALENDAR
VERSION:2.0
PRODID:
BEGIN:VEVENT
UID:359432imp
DTSTAMP:20260423T030219Z
DTSTART:20260610T130000Z
DTEND:20260610T150000Z
SUMMARY: Exploring Internal Controls That Could Have Prevented Frauds
DESCRIPTION: This course examines actual fraud circumstances through the lens of potential prevention. We will examine how selected frauds were accomplished and consider what internal controls may have prevented fraudsters' ability to accomplish their nefarious acts.

This event may be a rebroadcast of a live event and the instructor will be available to answer your questions during the event.This course is being offered by a learning partner and will not be accessible on your My CPE page. Access information will be emailed directly to you by CPA Crossings\n 
CLASS:PUBLIC
END:VEVENT
END:VCALENDAR
