BEGIN:VCALENDAR
VERSION:2.0
PRODID:
BEGIN:VEVENT
UID:359414imp
DTSTAMP:20260423T003720Z
DTSTART:20260609T140000Z
DTEND:20260609T220000Z
SUMMARY: An Exhaustive Look At Fraud and Ways To Control It
DESCRIPTION: Fraud activities can be executed from within an organization\, by parties outside an entity\, or by both. Importantly\, as the business world becomes more technological\, the way fraud is carried out is changing. There must be an increased focus on understanding where new fraud vulnerabilities exist. In this session\, we delve into the reasons that both internal and external intentional defalcations take place. The material discusses the new ways fraud is being actuated and looks at the factors driving those that undertake fraud. We spend time examining measures that can be implemented in order to stop fraud via the deployment of added security across the enterprise.

This event may be a rebroadcast of a live event and the instructor will be available to answer your questions during the event.This course is being offered by a learning partner and will not be accessible on your My CPE page. Access information will be emailed directly to you by CPA Crossings\n 
CLASS:PUBLIC
END:VEVENT
END:VCALENDAR
