BEGIN:VCALENDAR
VERSION:2.0
PRODID:
BEGIN:VEVENT
UID:359301imp
DTSTAMP:20260421T201702Z
DTSTART:20260603T140000Z
DTEND:20260603T160000Z
SUMMARY: Smarter Tax Services with Artificial Intelligence (AI) Tools
DESCRIPTION: There has never been a greater opportunity to leverage technology tools to automate your tax services. This course will provide specific examples of how you can use AI (artificial intelligence) based tools to complement your tax planning\, research and compliance services. You will learn how to leverage AI to automate the collection and organization of client data\, the engagement management process\, tax research\, and enhance client advisory services with AI too

This event may be a rebroadcast of a live event and the instructor will be available to answer your questions during the event.This course is being offered by a learning partner and will not be accessible on your My CPE page. Access information will be emailed directly to you by CPA Crossings\n 
CLASS:PUBLIC
END:VEVENT
END:VCALENDAR
