BEGIN:VCALENDAR
VERSION:2.0
PRODID:
BEGIN:VEVENT
UID:359207imp
DTSTAMP:20260422T023551Z
DTSTART:20260529T170000Z
DTEND:20260529T180000Z
SUMMARY: Behavioral Finance Biases
DESCRIPTION: If you have been a practitioner for any length of time\, you know that there is often a difference between what clients should do and what they actually do. Have you ever wondered why that is? In this course\, we will explore how we make decisions with less-than-perfect information. Through real-life examples and case studies\, we will examine common behavioral biases and how to deal with them.

This event may be a rebroadcast of a live event and the instructor will be available to answer your questions during the event.This course is being offered by a learning partner and will not be accessible on your My CPE page. Access information will be emailed directly to you by CPA Crossings\n 
CLASS:PUBLIC
END:VEVENT
END:VCALENDAR
