BEGIN:VCALENDAR
VERSION:2.0
PRODID:
BEGIN:VEVENT
UID:359043imp
DTSTAMP:20260423T014334Z
DTSTART:20260519T193000Z
DTEND:20260519T213000Z
SUMMARY: Current Cybersecurity Risk Management Trends
DESCRIPTION: One of the top concerns of any organization's leadership is how to mitigate the risk of cybersecurity threats\, along with the prevention and detection of fraud. This course will focus on the most common cybersecurity vulnerabilities and fraud trends\, and best practices for managing them.

This event may be a rebroadcast of a live event and the instructor will be available to answer your questions during the event.This course is being offered by a learning partner and will not be accessible on your My CPE page. Access information will be emailed directly to you by CPA Crossings\n 
CLASS:PUBLIC
END:VEVENT
END:VCALENDAR
