BEGIN:VCALENDAR
VERSION:2.0
PRODID:
BEGIN:VEVENT
UID:359036imp
DTSTAMP:20260423T190643Z
DTSTART:20260519T170000Z
DTEND:20260519T210000Z
SUMMARY: Current Nonprofit Fraud Trends
DESCRIPTION: Nonprofit entities  have a high degree of public accountability. This course will examine the most common fraud schemes and provide multiple examples of how to prevent or detect these schemes.

Nonprofit entities  have a high degree of public accountability.  This course will examine the most common fraud schemes and provide multiple examples of how to prevent or detect these schemes.

This event may be a rebroadcast of a live event and the instructor will be available to answer your questions during the event.This course is being offered by a learning partner and will not be accessible on your My CPE page. Access information will be emailed directly to you by CPA Crossings\n 
CLASS:PUBLIC
END:VEVENT
END:VCALENDAR
