BEGIN:VCALENDAR
VERSION:2.0
PRODID:
BEGIN:VEVENT
UID:359011imp
DTSTAMP:20260422T044000Z
DTSTART:20260518T173000Z
DTEND:20260518T193000Z
SUMMARY: Build Better Budgets: Fundamental Techniques
DESCRIPTION: This session provides insights for enhancing the preparation and utilization of budgets. Seasoned accountants will benefit from a refreshed awareness of popular techniques.  Budding financial professionals will obtain novel insight regarding fundamental budgeting concepts. All participants will develop an appreciation for the holistic nature of budgeting as an integral tool for planning and control. 

This event may be a rebroadcast of a live event and the instructor will be available to answer your questions during the event.This course is being offered by a learning partner and will not be accessible on your My CPE page. Access information will be emailed directly to you by CPA Crossings\n 
CLASS:PUBLIC
END:VEVENT
END:VCALENDAR
