BEGIN:VCALENDAR
VERSION:2.0
PRODID:
BEGIN:VEVENT
UID:358923imp
DTSTAMP:20260424T155359Z
DTSTART:20260513T130000Z
DTEND:20260513T210000Z
SUMMARY: Financial Statement Presentation\, Disclosure\, and Analysis
DESCRIPTION: This comprehensive session is a must-attend event for accountants who prepare financial statements and want to explore best practices for discerning the stories told by financial statements. We discuss salient requirements for presenting financial information while considering the critical role of disclosure for lending relevance to financial statements. We also explore techniques that will allow participants to perform meaningful financial statement analysis and effectively communicate conclusions to decision-makers and other stakeholders.

This event may be a rebroadcast of a live event and the instructor will be available to answer your questions during the event.This course is being offered by a learning partner and will not be accessible on your My CPE page. Access information will be emailed directly to you by CPA Crossings\n 
CLASS:PUBLIC
END:VEVENT
END:VCALENDAR
