BEGIN:VCALENDAR
VERSION:2.0
PRODID:
BEGIN:VEVENT
UID:358912imp
DTSTAMP:20260422T231842Z
DTSTART:20260512T173000Z
DTEND:20260512T193000Z
SUMMARY: ChatGPT Deep-Dive Hands-on Bootcamp for CPAs
DESCRIPTION: ChatGPT has grown its user base to over 800 million active users per week. As a leader in the generative market\, it a tool that every CPA should have a basic understanding of how to use  and apply in business. This course will provide a comprehensive review and demonstration of how to put ChatGPT to work for you and your clients. It is designed as a "hands-on" course that facilitates following along with the presenter to apply the features  of ChatGPT on your computer. Practice files will be provided so you don't have to expose your confidential data.

This event may be a rebroadcast of a live event and the instructor will be available to answer your questions during the event.This course is being offered by a learning partner and will not be accessible on your My CPE page. Access information will be emailed directly to you by CPA Crossings\n 
CLASS:PUBLIC
END:VEVENT
END:VCALENDAR
