BEGIN:VCALENDAR
VERSION:2.0
PRODID:
BEGIN:VEVENT
UID:358908imp
DTSTAMP:20260422T023535Z
DTSTART:20260512T160000Z
DTEND:20260512T180000Z
SUMMARY: Navigating IRS Collections: The Collection Process
DESCRIPTION: This course is designed for tax professionals seeking to understand and navigate the IRS collection process effectively.  Participants will gain indepth knowledge of the various collection methods employed by the IRS\, including liens\, levies and wage garnishments.  Additionall\, participants will leand strategies to avoid or halt collection actions and the implications of the statute of limitations on tax collection.

This event may be a rebroadcast of a live event and the instructor will be available to answer your questions during the event.This course is being offered by a learning partner and will not be accessible on your My CPE page. Access information will be emailed directly to you by CPA Crossings\n 
CLASS:PUBLIC
END:VEVENT
END:VCALENDAR
