BEGIN:VCALENDAR
VERSION:2.0
PRODID:
BEGIN:VEVENT
UID:358901imp
DTSTAMP:20260424T052336Z
DTSTART:20260512T133000Z
DTEND:20260512T213000Z
SUMMARY: Multi Year Failure to File: Getting into Compliance
DESCRIPTION: This comprehensive program equips CPAs with the knowledge and practical tools to handle clients who have failed to file tax returns for multiple years. The course covers every stage of the process-from client onboarding and transcript analysis to risk assessment\, ethical considerations\, and resolution strategies. Participants will learn how to manage cases involving individuals\, married couples\, businesses\, payroll taxes\, and S corporations\, including situations with missing records and potential criminal exposure. Real-world examples\, IRS references\, and best practices are integrated throughout to ensure confidence and compliance.

This event may be a rebroadcast of a live event and the instructor will be available to answer your questions during the event.This course is being offered by a learning partner and will not be accessible on your My CPE page. Access information will be emailed directly to you by CPA Crossings\n 
CLASS:PUBLIC
END:VEVENT
END:VCALENDAR
