BEGIN:VCALENDAR
VERSION:2.0
PRODID:
BEGIN:VEVENT
UID:358804imp
DTSTAMP:20260424T225028Z
DTSTART:20260506T140000Z
DTEND:20260506T220000Z
SUMMARY: Managing Current Fraud Trends in a Shifting Environment
DESCRIPTION: As our business environment shifts\, so do trends with fraud schemes and perpetrators.  This course will give you the absolutely latest information with how to identify and mitigate shifting fraud risks in any entity.

This event may be a rebroadcast of a live event and the instructor will be available to answer your questions during the event.This course is being offered by a learning partner and will not be accessible on your My CPE page. Access information will be emailed directly to you by CPA Crossings\n 
CLASS:PUBLIC
END:VEVENT
END:VCALENDAR
