BEGIN:VCALENDAR
VERSION:2.0
PRODID:
BEGIN:VEVENT
UID:358785imp
DTSTAMP:20260423T192422Z
DTSTART:20260505T140000Z
DTEND:20260505T180000Z
SUMMARY: How Recent Auditing Standards Improve Risk-Based Audits
DESCRIPTION: Recent generally accepted auditing standards were written to improve the quality of risk-based financial statement audits\, audit reporting\, and required by-product communications.  This course will discuss the important clarifications and enhancements intended to improve audit quality to ensure better compliance with requirements contained in the SASs.

This event may be a rebroadcast of a live event and the instructor will be available to answer your questions during the event.This course is being offered by a learning partner and will not be accessible on your My CPE page. Access information will be emailed directly to you by CPA Crossings\n 
CLASS:PUBLIC
END:VEVENT
END:VCALENDAR
