BEGIN:VCALENDAR
VERSION:2.0
PRODID:
BEGIN:VEVENT
UID:358721imp
DTSTAMP:20260424T004708Z
DTSTART:20260501T070000Z
DTEND:20260501T170000Z
SUMMARY: LEARNING PATH: Staff Accountant Core Foundations
DESCRIPTION: REGISTRATION INSTRUCTIONS:

This is a Learning Path which contains several courses for a total of 10 CPE.

Once registered\, detailed instructions will be emailed to sign up for each individual course.

You must attend each course by April 30\, 2027.This course is being offered by a learning partner and will not be accessible on your My CPE page. Access information will be emailed directly to you by CPA Crossings\n 
CLASS:PUBLIC
END:VEVENT
END:VCALENDAR
