BEGIN:VCALENDAR
VERSION:2.0
PRODID:
BEGIN:VEVENT
UID:358069imp
DTSTAMP:20260424T023702Z
DTSTART:20270427T180000Z
DTEND:20270427T200000Z
SUMMARY: Surgent's Recent Changes in Workplace Regulations: Overtime\, Non-compete Agreements\, and Employee/Independent Contractor
DESCRIPTION: This program covers three topics: the Department of Labor's changes in overtime rules\, the Federal Trade Commission's ban on most non-compete agreements\, and the Department of Labor's new rules relating to differentiating between employees and independent contractors under the Fair Labor Standards Act (FLSA). Any suspensions due to court challenges will be discussed. Understanding these new changes will allow accounting and finance professionals to discuss these important business law changes with their clients.Delivery Method: Individual webcastCPE Credit: 2Program Level: BasicThis course is being offered by a learning partner. You may access the Surgent platform through the My CPE page on vscpa.com after purchase\n 
CLASS:PUBLIC
END:VEVENT
END:VCALENDAR
