BEGIN:VCALENDAR
VERSION:2.0
PRODID:
BEGIN:VEVENT
UID:358045imp
DTSTAMP:20260424T142251Z
DTSTART:20270422T130000Z
DTEND:20270422T163000Z
SUMMARY: Surgent's Tax Update for Client Advisory Services
DESCRIPTION: Client advisory services (CAS) professionals are becoming a more integral part of the operations of any CPA firm. As such\, they must stay on top of changing tax law. In this course\, we will explore tax changes in areas CAS professionals are involved with &mdash\; information reporting\, payroll tax issues\, and tax credit and deduction documentation. We will also discuss relevant changes to individual and business tax returns so that CAS professionals can better assist clients with tax needs in the upcoming year.Delivery Method: Individual webcastCPE Credit: 4Program Level: UpdateThis course is being offered by a learning partner. You may access the Surgent platform through the My CPE page on vscpa.com after purchase\n 
CLASS:PUBLIC
END:VEVENT
END:VCALENDAR
