BEGIN:VCALENDAR
VERSION:2.0
PRODID:
BEGIN:VEVENT
UID:358039imp
DTSTAMP:20260424T153938Z
DTSTART:20270422T190000Z
DTEND:20270422T210000Z
SUMMARY: Surgent's Managing Up the Ladder
DESCRIPTION: It's not about top-down management anymore &mdash\; things have changed. For organizations to be successful today\, everyone needs to contribute. Our success depends not just on how you manage those who report to you but also on those to whom you report. 

The world is too complex now for any one person to have all the answers. Sometimes those in charge need and want your support. Learn how to manage the managers in "Managing Up the Ladder." It takes a special finesse and approach.

You'll learn strategies for acquiring buy-in from those above you in the organization and tools for more effective communications and building respect.Delivery Method: Individual webcastCPE Credit: 2Program Level: BasicThis course is being offered by a learning partner. You may access the Surgent platform through the My CPE page on vscpa.com after purchase\n 
CLASS:PUBLIC
END:VEVENT
END:VCALENDAR
