BEGIN:VCALENDAR
VERSION:2.0
PRODID:
BEGIN:VEVENT
UID:358031imp
DTSTAMP:20260424T094323Z
DTSTART:20270421T180000Z
DTEND:20270421T200000Z
SUMMARY: Surgent's Engagement and Client Retention Best Practices
DESCRIPTION: Positive client relationships require work. Miscommunication\, unrealistic expectations\, and differing personality styles may strain a client's relationship with professional advisors. Fortunately\, there are tested strategies that foster and strengthen client relationships. Creating appropriate boundaries early on is one of many effective strategies that can help.

This course explores actions accounting and finance professionals can take to create and grow their client relationships. This webinar provides actionable insights on how to engage new and old clients alike. Strained client relationships can harm both the client and the firm's profitability. Yet automation\, for example\, allows some firms to remain more engaged while others miss the mark. There is a science underlying client retention that involves understanding the client journey\, ensuring consistent client interactions\, and equipping employees with the tools needed to satisfy client needs. Understanding these skills should help you protect the relationships that sustain your business. 
Delivery Method: Individual webcastCPE Credit: 2Program Level: BasicThis course is being offered by a learning partner. You may access the Surgent platform through the My CPE page on vscpa.com after purchase\n 
CLASS:PUBLIC
END:VEVENT
END:VCALENDAR
