BEGIN:VCALENDAR
VERSION:2.0
PRODID:
BEGIN:VEVENT
UID:358026imp
DTSTAMP:20260424T113422Z
DTSTART:20270420T140000Z
DTEND:20270420T160000Z
SUMMARY: Surgent's Anatomy of a Ransomware Event and Incident Response
DESCRIPTION: The past two years have ushered in an explosion of ransomware attacks affecting businesses and individuals. Many of us read or hear about these attacks\, but there is little understanding of how they occur\, how a response is undertaken\, and how the chances of experiencing one can be reduced. Join us to learn about these topics so you can be prepared with the best response and the knowledge to avoid common mistakes in a ransomware event.Delivery Method: Individual webcastCPE Credit: 2Program Level: BasicThis course is being offered by a learning partner. You may access the Surgent platform through the My CPE page on vscpa.com after purchase\n 
CLASS:PUBLIC
END:VEVENT
END:VCALENDAR
