BEGIN:VCALENDAR
VERSION:2.0
PRODID:
BEGIN:VEVENT
UID:358010imp
DTSTAMP:20260424T123307Z
DTSTART:20270416T190000Z
DTEND:20270416T210000Z
SUMMARY: Surgent's System and Organization Controls (SOC) Engagements
DESCRIPTION: In today's interconnected world\, safeguarding information systems is crucial. This course will provide a comprehensive understanding of SOC engagements\, exploring the types of reports (SOC 1&reg\;\, SOC 2&reg\;\, and SOC 3&reg\;) and the related management assertions. The use of the reports for internal controls over financial reporting (ICFR) and operations and compliance will be analyzed. This course equips accounting professionals with the knowledge to effectively lead in compliance reporting.Delivery Method: Individual webcastCPE Credit: 2Program Level: BasicThis course is being offered by a learning partner. You may access the Surgent platform through the My CPE page on vscpa.com after purchase\n 
CLASS:PUBLIC
END:VEVENT
END:VCALENDAR
