BEGIN:VCALENDAR
VERSION:2.0
PRODID:
BEGIN:VEVENT
UID:358001imp
DTSTAMP:20260424T155624Z
DTSTART:20270414T173000Z
DTEND:20270414T210000Z
SUMMARY: Surgent's Controller/CFO Update: Hot Topics Facing Today's Financial Professional
DESCRIPTION: In today's rapidly changing world\, finance professionals are required to wear many hats and are often the keys to the success of the organization. On one hand\, they need to be abreast of the latest proven financial skills for making the best decisions\, and on the other hand\, they need the best skills to motivate\, manage\, and lead people. Being pigeonholed into one area or another is neither good for career building nor good for the organization. We'll cover the latest issues that all CFOs and controllers need to know about and provide how-to guidance to allow for immediate use in their organizations.Delivery Method: Individual webcastCPE Credit: 4Program Level: IntermediateThis course is being offered by a learning partner. You may access the Surgent platform through the My CPE page on vscpa.com after purchase\n 
CLASS:PUBLIC
END:VEVENT
END:VCALENDAR
