BEGIN:VCALENDAR
VERSION:2.0
PRODID:
BEGIN:VEVENT
UID:358000imp
DTSTAMP:20260424T114739Z
DTSTART:20270414T130000Z
DTEND:20270414T150000Z
SUMMARY: Surgent's Information Security and Privacy
DESCRIPTION: In today's interconnected world\, safeguarding information systems is crucial. This course offers a deep dive into information security and privacy principles with a focus on modern cybersecurity threats tied to cloud environments\, Internet of Things (IoT)\, and mobile technologies. The course will also cover data protection during application development. Taking this course will equip accounting professionals with the knowledge to lead in cybersecurity strategy.Delivery Method: Individual webcastCPE Credit: 2Program Level: BasicThis course is being offered by a learning partner. You may access the Surgent platform through the My CPE page on vscpa.com after purchase\n 
CLASS:PUBLIC
END:VEVENT
END:VCALENDAR
