BEGIN:VCALENDAR
VERSION:2.0
PRODID:
BEGIN:VEVENT
UID:357997imp
DTSTAMP:20260423T170941Z
DTSTART:20270413T190000Z
DTEND:20270413T210000Z
SUMMARY: Surgent's Controllership Skills Update: Risk Management
DESCRIPTION: The most recent recession and its fallout\, weather (look at 2017)\, process and product failures\, and unethical behavior have again highlighted failures by numerous organizations in identifying and managing risk. The size and reputation of organizations proved not to be the key to success. Again\, we saw that failures can result in areas/industries thought to be "under control" through their policies\, practices and/or regulations. A core activity of financial management is to effectively protect the assets of their organizations\, without significantly reducing new ideas and growth. This brief program provides insights and approaches to identify risk and manage the above noted trade-off. The course is designed for financial managers looking to quickly build upon their existing knowledge and experience\, as well as to help to start the less experienced individual. It offers ideas that can be used immediately\, as well as longer term approaches. Updated to include new information particularly in the areas of disaster planning\, business continuity\, and ethics\, as well as a sample group exercise to test your current risk management systems.Delivery Method: Individual webcastCPE Credit: 2Program Level: UpdateThis course is being offered by a learning partner. You may access the Surgent platform through the My CPE page on vscpa.com after purchase\n 
CLASS:PUBLIC
END:VEVENT
END:VCALENDAR
