BEGIN:VCALENDAR
VERSION:2.0
PRODID:
BEGIN:VEVENT
UID:357992imp
DTSTAMP:20260424T093802Z
DTSTART:20270412T140000Z
DTEND:20270412T160000Z
SUMMARY: Surgent's Excel Tables and Conditional Summing
DESCRIPTION: In this webinar we will explore the powerful concept of splitting data from reports and dig into the mechanics that enable this technique. The key feature discussed is the Tables feature\, and the key function discussed is the multiple-condition summing function. We will illustrate these items in a variety of ways\, including building crosstab style reports and mapping tables.Delivery Method: Individual webcastCPE Credit: 2Program Level: BasicThis course is being offered by a learning partner. You may access the Surgent platform through the My CPE page on vscpa.com after purchase\n 
CLASS:PUBLIC
END:VEVENT
END:VCALENDAR
