BEGIN:VCALENDAR
VERSION:2.0
PRODID:
BEGIN:VEVENT
UID:357957imp
DTSTAMP:20260424T090606Z
DTSTART:20270402T140000Z
DTEND:20270402T160000Z
SUMMARY: Surgent's Capital Assets: Basis and Taxation for Financial Professionals
DESCRIPTION: This course provides a comprehensive understanding of capital assets taxation\, basis determination\, and related tax planning strategies. Participants will explore the fundamental classification of capital assets\, the distinction between realization and recognition of gains and losses\, and the complex rules governing disallowed losses. The course thoroughly examines the various types of capital gains and losses\, including short-term\, long-term\, and special categories such as unrecaptured Section 1250 gains and collectibles. Attendees will learn the intricacies of netting capital gains and losses\, calculating tax liabilities across different income types\, and distinguishing between marginal and effective tax rates. The course also covers advanced topics including basis adjustments\, wash sale rules\, related-party transactions\, and inherited property treatment. By the end of the course\, participants will be equipped with the knowledge and tools to guide clients in implementing effective capital asset strategies that minimize tax liabilities while ensuring regulatory compliance.Delivery Method: Individual webcastCPE Credit: 2Program Level: BasicThis course is being offered by a learning partner. You may access the Surgent platform through the My CPE page on vscpa.com after purchase\n 
CLASS:PUBLIC
END:VEVENT
END:VCALENDAR
