BEGIN:VCALENDAR
VERSION:2.0
PRODID:
BEGIN:VEVENT
UID:357952imp
DTSTAMP:20260424T160858Z
DTSTART:20270401T173000Z
DTEND:20270401T210000Z
SUMMARY: Surgent's Basics of Employment Law for Non-HR Professionals
DESCRIPTION: Learn the basics of employment law and how they affect best practices to help control the interview and discover hidden talents of applicants.Delivery Method: Individual webcastCPE Credit: 4Program Level: BasicThis course is being offered by a learning partner. You may access the Surgent platform through the My CPE page on vscpa.com after purchase\n 
CLASS:PUBLIC
END:VEVENT
END:VCALENDAR
