BEGIN:VCALENDAR
VERSION:2.0
PRODID:
BEGIN:VEVENT
UID:357945imp
DTSTAMP:20260424T231019Z
DTSTART:20270331T130000Z
DTEND:20270331T150000Z
SUMMARY: Surgent's Generative AI and Cybersecurity: Opportunities and Threats
DESCRIPTION: This course explores how generative AI is revolutionizing cybersecurity. It highlights opportunities\, such as enhanced threat detection\, and risks\, including AI-driven phishing and malware\, particularly in financial contexts.Delivery Method: Individual webcastCPE Credit: 2Program Level: BasicThis course is being offered by a learning partner. You may access the Surgent platform through the My CPE page on vscpa.com after purchase\n 
CLASS:PUBLIC
END:VEVENT
END:VCALENDAR
