BEGIN:VCALENDAR
VERSION:2.0
PRODID:
BEGIN:VEVENT
UID:357941imp
DTSTAMP:20260424T023019Z
DTSTART:20270330T180000Z
DTEND:20270330T200000Z
SUMMARY: Surgent's Leveraging AI for Data Analytics in Accounting
DESCRIPTION: This course explores the data analytics aspects of AI in accounting. Participants will develop skills in leveraging AI tools for enhanced data analytics.Delivery Method: Individual webcastCPE Credit: 2Program Level: BasicThis course is being offered by a learning partner. You may access the Surgent platform through the My CPE page on vscpa.com after purchase\n 
CLASS:PUBLIC
END:VEVENT
END:VCALENDAR
