BEGIN:VCALENDAR
VERSION:2.0
PRODID:
BEGIN:VEVENT
UID:357935imp
DTSTAMP:20260425T015737Z
DTSTART:20270329T170000Z
DTEND:20270329T190000Z
SUMMARY: Surgent's Tax Research - Intermediate Concepts
DESCRIPTION: Answering clients' tax questions accurately and on time is a key challenge for tax practitioners. Through simple\, plain language explanations and examples\, this course will help practitioners perform tax research more efficiently by describing the structure of the primary sources\, highlighting the difference between primary and secondary sources\, and describing the steps in the tax research process.Delivery Method: Individual webcastCPE Credit: 2Program Level: BasicThis course is being offered by a learning partner. You may access the Surgent platform through the My CPE page on vscpa.com after purchase\n 
CLASS:PUBLIC
END:VEVENT
END:VCALENDAR
