BEGIN:VCALENDAR
VERSION:2.0
PRODID:
BEGIN:VEVENT
UID:357925imp
DTSTAMP:20260423T191721Z
DTSTART:20270325T170000Z
DTEND:20270325T203000Z
SUMMARY: Surgent's Employer's Handbook: Health Care\, Retirement\, and Fringe Benefit Tax Issues
DESCRIPTION: The employer-employee relationship strains both sides in uncertain times\, and businesses need CPAs\, controllers\, and other advisors to provide understanding of the complex legal\, tax\, and health care issues associated with all aspects of employment. This course provides in-depth coverage of this critical area.Delivery Method: Individual webcastCPE Credit: 4Program Level: BasicThis course is being offered by a learning partner. You may access the Surgent platform through the My CPE page on vscpa.com after purchase\n 
CLASS:PUBLIC
END:VEVENT
END:VCALENDAR
