BEGIN:VCALENDAR
VERSION:2.0
PRODID:
BEGIN:VEVENT
UID:357921imp
DTSTAMP:20260424T160539Z
DTSTART:20270324T140000Z
DTEND:20270324T160000Z
SUMMARY: Surgent's Exploring Business Valuation Fundamentals
DESCRIPTION: What makes a business valuable? Who determines value? What are the key factors that make businesses valuable? In this course\, we explore the different ways to value a business. We will apply foundational valuation and corporate finance concepts to real world examples in an effort to see what makes up an investment's price.Delivery Method: Individual webcastCPE Credit: 2Program Level: BasicThis course is being offered by a learning partner. You may access the Surgent platform through the My CPE page on vscpa.com after purchase\n 
CLASS:PUBLIC
END:VEVENT
END:VCALENDAR
