BEGIN:VCALENDAR
VERSION:2.0
PRODID:
BEGIN:VEVENT
UID:357887imp
DTSTAMP:20260425T034229Z
DTSTART:20270318T130000Z
DTEND:20270318T163000Z
SUMMARY: Surgent's Achieving High Levels of Compliance and Customer Service in Your Organization
DESCRIPTION: Probably one of the greatest conflicts in an organization is determining which is more important: compliance or customer service. This program digs deeply into the issue and prepares the finance professional to achieve high levels of compliance and customer service in the department and in the entire organization. We will examine both disciplines from an analytical standpoint\, proving why they are necessary for both for-profit and nonprofit organizations to achieve success.Delivery Method: Individual webcastCPE Credit: 4Program Level: BasicThis course is being offered by a learning partner. You may access the Surgent platform through the My CPE page on vscpa.com after purchase\n 
CLASS:PUBLIC
END:VEVENT
END:VCALENDAR
