BEGIN:VCALENDAR
VERSION:2.0
PRODID:
BEGIN:VEVENT
UID:357871imp
DTSTAMP:20260424T112158Z
DTSTART:20270315T160000Z
DTEND:20270315T180000Z
SUMMARY: Surgent's Tax and Advisory with Agentic AI
DESCRIPTION: This course examines how agentic AI is revolutionizing tax compliance\, planning\, and advisory services. Participants will explore real-world deployments by leading firms such as EY\, which has developed agents that handle millions of global tax transactions. The course also delves into cross-border compliance issues\, transfer pricing automation\, and emerging advisory models powered by agent-led simulations. Risks related to bias\, unauthorized practice\, and data privacy will be addressed\, with guidance on aligning autonomous operations with professional and regulatory standards. CPAs must understand these advancements to ensure tax compliance\, manage client expectations\, and mitigate professional liability risks when providing agent-assisted advisory services.Delivery Method: Individual webcastCPE Credit: 2Program Level: BasicThis course is being offered by a learning partner. You may access the Surgent platform through the My CPE page on vscpa.com after purchase\n 
CLASS:PUBLIC
END:VEVENT
END:VCALENDAR
