BEGIN:VCALENDAR
VERSION:2.0
PRODID:
BEGIN:VEVENT
UID:357859imp
DTSTAMP:20260424T150919Z
DTSTART:20270311T180000Z
DTEND:20270311T200000Z
SUMMARY: Surgent's Excel: Mastering PivotTables
DESCRIPTION: PivotTable is a fancy term for an Excel report that summarizes data. If you have not yet had the good fortune of exploring PivotTables\, it is about time. In this session\, we'll dig into PivotTables\, understand the report layout options\, and examine PivotTable formulas.Delivery Method: Individual webcastCPE Credit: 2Program Level: BasicThis course is being offered by a learning partner. You may access the Surgent platform through the My CPE page on vscpa.com after purchase\n 
CLASS:PUBLIC
END:VEVENT
END:VCALENDAR
