BEGIN:VCALENDAR
VERSION:2.0
PRODID:
BEGIN:VEVENT
UID:357858imp
DTSTAMP:20260424T154325Z
DTSTART:20270311T180000Z
DTEND:20270311T200000Z
SUMMARY: Surgent's Adapting to OBBBA Changes: A Strategic Review
DESCRIPTION: Accounting and finance practitioners are continually asked for strategic planning advice. In this course\, we will cover topics that will make clients\, and their advisors\, tax smart and tax prepared for the coming year and beyond.

This program is a two-hour review and analysis of what we consider some of the most important changes from the OBBBA impacting both individual and business clients.Delivery Method: Individual webcastCPE Credit: 2Program Level: BasicThis course is being offered by a learning partner. You may access the Surgent platform through the My CPE page on vscpa.com after purchase\n 
CLASS:PUBLIC
END:VEVENT
END:VCALENDAR
