BEGIN:VCALENDAR
VERSION:2.0
PRODID:
BEGIN:VEVENT
UID:357851imp
DTSTAMP:20260424T055133Z
DTSTART:20270310T160000Z
DTEND:20270310T190000Z
SUMMARY: Surgent's Representing a Client in an IRS Audit
DESCRIPTION: The Inflation Reduction Act of 2022 called for delivering nearly $80 billion to the IRS over 10 years to allow the IRS to purchase new technology and hire employees. This funding would have provided the IRS with new equipment and new employees\, possibly to handle more audits\, many of them involving very complex tax issues. The Trump Administration has reversed this with prospects for a reduction in IRS employees and less money to fund the purchase and development of new software.  

This program discusses the current state of IRS audits. Trump administration changes will of course have enormous impacts on these audits going forward.Delivery Method: Individual webcastCPE Credit: 3Program Level: BasicThis course is being offered by a learning partner. You may access the Surgent platform through the My CPE page on vscpa.com after purchase\n 
CLASS:PUBLIC
END:VEVENT
END:VCALENDAR
