BEGIN:VCALENDAR
VERSION:2.0
PRODID:
BEGIN:VEVENT
UID:357833imp
DTSTAMP:20260424T153320Z
DTSTART:20270305T150000Z
DTEND:20270305T170000Z
SUMMARY: Surgent's Making Sense of Essential OBBBA Provisions
DESCRIPTION: When clients ask questions about the impact of new tax legislation embodied in OBBBA\, it is important that accounting and finance practitioners can reply with accurate and relevant planning strategies. This program prepares accounting and finance practitioners with the knowledge and insights to help their clients apply the new law to their advantage.

This program is an introduction and review of some of these critical changes and their impact on individual and business taxpayers. By taking this program\, accounting and finance practitioners will have a broader\, deeper understanding of many of the OBBBA changes that impact their clients. 

This course is a two-hour review and analysis of what we consider some of the most important changes from the OBBBA impacting clients and perhaps their businesses.Delivery Method: Individual webcastCPE Credit: 2Program Level: BasicThis course is being offered by a learning partner. You may access the Surgent platform through the My CPE page on vscpa.com after purchase\n 
CLASS:PUBLIC
END:VEVENT
END:VCALENDAR
